BEGIN:VCALENDAR
VERSION:2.0
PRODID:SchoolNow
CALSCALE:GREGORIAN
BEGIN:VEVENT
UID:113e5bbc-3ab6-11f1-86ac-02a8e6716ce9
DTSTAMP:20260424T124007Z
SUMMARY:MVMS - Wrestling Tournament - Home Tournament
LOCATION:Home
URL;VALUE=URI:https://www.kvusd.org/schools/mvms/calendar/9001700/mvms-wres
 tling-tournament-home-tournament
DTSTART:20260430T233000Z
DTEND:20260501T013000Z
END:VEVENT
END:VCALENDAR
