BEGIN:VCALENDAR
VERSION:2.0
PRODID:SchoolNow
CALSCALE:GREGORIAN
BEGIN:VEVENT
UID:d5a7ec26-378b-11f1-93df-0a58a9feac02
DTSTAMP:20260423T123008Z
SUMMARY:MVMS - Wrestling Tournament at Lakeport
URL;VALUE=URI:https://www.kvusd.org/schools/mvms/calendar/8991680/mvms-wres
 tling-tournament-at-lakeport
DTSTART:20260423T230000Z
DTEND:20260424T010000Z
END:VEVENT
END:VCALENDAR
