BEGIN:VCALENDAR
VERSION:2.0
PRODID:SchoolNow
CALSCALE:GREGORIAN
BEGIN:VEVENT
UID:d5a7e7ee-378b-11f1-a84b-0a58a9feac02
DTSTAMP:20260421T000533Z
SUMMARY:MVMS - Site Council Meeting
LOCATION:Room #6
URL;VALUE=URI:https://www.kvusd.org/schools/mvms/calendar/8991679/mvms-site
 -council-meeting
DTSTART:20260422T221500Z
DTEND:20260422T230000Z
END:VEVENT
END:VCALENDAR
