BEGIN:VCALENDAR
VERSION:2.0
PRODID:SchoolNow
CALSCALE:GREGORIAN
BEGIN:VEVENT
UID:d59027ee-378b-11f1-aec8-0a58a9feac02
DTSTAMP:20260424T124007Z
SUMMARY:MVMS - Track and Field Meet
LOCATION:Middletown High School\, 20932 Big Canyon Rd\, Middletown\, CA 954
 61\, USA
URL;VALUE=URI:https://www.kvusd.org/schools/mvms/calendar/8991678/mvms-trac
 k-and-field-meet
DTSTART:20260430T220000Z
DTEND:20260430T230000Z
END:VEVENT
END:VCALENDAR
