BEGIN:VCALENDAR
VERSION:2.0
PRODID:SchoolNow
CALSCALE:GREGORIAN
BEGIN:VEVENT
UID:d5902578-378b-11f1-ba97-0a58a9feac02
DTSTAMP:20260424T124007Z
SUMMARY:MVMS - Wrestling Tournament
LOCATION:Upper Lake
URL;VALUE=URI:https://www.kvusd.org/schools/mvms/calendar/8991676/mvms-wres
 tling-tournament
DTSTART:20260507T230000Z
DTEND:20260508T010000Z
END:VEVENT
END:VCALENDAR
