BEGIN:VCALENDAR
VERSION:2.0
PRODID:SchoolNow
CALSCALE:GREGORIAN
BEGIN:VEVENT
UID:d5902348-378b-11f1-82e8-0a58a9feac02
DTSTAMP:20260424T124007Z
SUMMARY:MVMS - Track & Field Meet
LOCATION:Pomolita Middle School\, 740 N Spring St\, Ukiah\, CA 95482\, USA
URL;VALUE=URI:https://www.kvusd.org/schools/mvms/calendar/8991675/mvms-trac
 k-field-meet
DTSTART:20260506T230000Z
DTEND:20260507T010000Z
END:VEVENT
END:VCALENDAR
