BEGIN:VCALENDAR
VERSION:2.0
PRODID:SchoolNow
CALSCALE:GREGORIAN
BEGIN:VEVENT
UID:d5902212-378b-11f1-9adf-0a58a9feac02
DTSTAMP:20260424T124007Z
SUMMARY:MVMS - Track and Field Meet
LOCATION:Anderson Valley Jr-Sr High\, 18200 Mountain View Rd\, Boonville\, 
 CA 95415\, USA
URL;VALUE=URI:https://www.kvusd.org/schools/mvms/calendar/8991674/mvms-trac
 k-and-field-meet
DTSTART:20260429T230000Z
DTEND:20260430T010000Z
END:VEVENT
END:VCALENDAR
