BEGIN:VCALENDAR
VERSION:2.0
PRODID:SchoolNow
CALSCALE:GREGORIAN
BEGIN:VEVENT
UID:d59020aa-378b-11f1-aa5d-0a58a9feac02
DTSTAMP:20260423T123008Z
SUMMARY:MVMS - Track & Field Meet
LOCATION:Lower Lake High School\, 9430 Lake St\, Lower Lake\, CA 95457\, US
 A
URL;VALUE=URI:https://www.kvusd.org/schools/mvms/calendar/8991673/mvms-trac
 k-field-meet
DTSTART:20260423T230000Z
DTEND:20260424T000000Z
END:VEVENT
END:VCALENDAR
