BEGIN:VCALENDAR
VERSION:2.0
PRODID:SchoolNow
CALSCALE:GREGORIAN
BEGIN:VEVENT
UID:d5901d6c-378b-11f1-9d47-0a58a9feac02
DTSTAMP:20260424T124007Z
SUMMARY:MVMS - 5th Grade Concert
URL;VALUE=URI:https://www.kvusd.org/schools/mvms/calendar/8991671/mvms-5th-
 grade-concert
DTSTART:20260522T020000Z
DTEND:20260522T030000Z
END:VEVENT
END:VCALENDAR
