BEGIN:VCALENDAR
VERSION:2.0
PRODID:SchoolNow
CALSCALE:GREGORIAN
BEGIN:VEVENT
UID:d5901aba-378b-11f1-a158-0a58a9feac02
DTSTAMP:20260424T124007Z
SUMMARY:MVMS - Track and Field Meet
LOCATION:Kelseyville High School
URL;VALUE=URI:https://www.kvusd.org/schools/mvms/calendar/8991670/mvms-trac
 k-and-field-meet
DTSTART:20260507T230000Z
DTEND:20260508T010000Z
END:VEVENT
END:VCALENDAR
