BEGIN:VCALENDAR
VERSION:2.0
PRODID:SchoolNow
CALSCALE:GREGORIAN
BEGIN:VEVENT
UID:d5901790-378b-11f1-9dae-0a58a9feac02
DTSTAMP:20260424T124007Z
SUMMARY:MVMS - Track and Field Invitational Meet
LOCATION:Lower Lake High School\, 9430 Lake St\, Lower Lake\, CA 95457\, US
 A
URL;VALUE=URI:https://www.kvusd.org/schools/mvms/calendar/8991668/mvms-trac
 k-and-field-invitational-meet
DTSTART:20260521T230000Z
DTEND:20260522T000000Z
END:VEVENT
END:VCALENDAR
