BEGIN:VCALENDAR
VERSION:2.0
PRODID:SchoolNow
CALSCALE:GREGORIAN
BEGIN:VEVENT
UID:d5901452-378b-11f1-8d60-0a58a9feac02
DTSTAMP:20260424T124007Z
SUMMARY:MVMS - Soccer vs. Baechtel Grove Middle
LOCATION:TBD-Waiting for AD Location Confirmation
URL;VALUE=URI:https://www.kvusd.org/schools/mvms/calendar/8991667/mvms-socc
 er-vs-baechtel-grove-middle
DTSTART:20260511T233000Z
DTEND:20260512T003000Z
END:VEVENT
END:VCALENDAR
