BEGIN:VCALENDAR
VERSION:2.0
PRODID:SchoolNow
CALSCALE:GREGORIAN
BEGIN:VEVENT
UID:c452a4e8-2e0d-11f1-9941-0eb51ed7ae73
DTSTAMP:20260424T124007Z
SUMMARY:MVMS - Track & Field Pledge Fundraiser
LOCATION:MVMS Track
URL;VALUE=URI:https://www.kvusd.org/schools/mvms/calendar/8964092/mvms-trac
 k-field-pledge-fundraiser
DTSTART:20260427T223000Z
DTEND:20260428T000000Z
END:VEVENT
END:VCALENDAR
