BEGIN:VCALENDAR
VERSION:2.0
PRODID:SchoolNow
CALSCALE:GREGORIAN
BEGIN:VEVENT
UID:c4526726-2e0d-11f1-b921-0eb51ed7ae73
DTSTAMP:20260423T123008Z
SUMMARY:MVMS - Spring Book Fair
URL;VALUE=URI:https://www.kvusd.org/schools/mvms/calendar/8964091/mvms-spri
 ng-book-fair
DTSTART;VALUE=DATE:20260427
DTEND;VALUE=DATE:20260502
END:VEVENT
END:VCALENDAR
