BEGIN:VCALENDAR
VERSION:2.0
PRODID:SchoolNow
CALSCALE:GREGORIAN
BEGIN:VEVENT
UID:833661a0-19e2-11f1-9729-0a58a9feac02
DTSTAMP:20260424T124007Z
SUMMARY:MVMS - Softball Potter Valley
LOCATION:Middletown
URL;VALUE=URI:https://www.kvusd.org/schools/mvms/calendar/8897775/mvms-soft
 ball-potter-valley
DTSTART;VALUE=DATE:20260514
DTEND;VALUE=DATE:20260517
END:VEVENT
END:VCALENDAR
