BEGIN:VCALENDAR
VERSION:2.0
PRODID:SchoolNow
CALSCALE:GREGORIAN
BEGIN:VEVENT
UID:83365782-19e2-11f1-910f-0a58a9feac02
DTSTAMP:20260424T124007Z
SUMMARY:MVMS - Softball vs Pomolita
LOCATION:Home
URL;VALUE=URI:https://www.kvusd.org/schools/mvms/calendar/8897773/mvms-soft
 ball-vs-pomolita
DTSTART:20260311T233000Z
DTEND:20260312T010000Z
END:VEVENT
END:VCALENDAR
