BEGIN:VCALENDAR
VERSION:2.0
PRODID:SchoolNow
CALSCALE:GREGORIAN
BEGIN:VEVENT
UID:833654bc-19e2-11f1-8f22-0a58a9feac02
DTSTAMP:20260424T124007Z
SUMMARY:MVMS Softball vs. Eagle Peak
LOCATION:Eagle Peak Middle School\, 8601 West Rd\, Redwood Valley\, CA 9547
 0\, USA
URL;VALUE=URI:https://www.kvusd.org/schools/mvms/calendar/8897771/mvms-soft
 ball-vs-eagle-peak
DTSTART:20260430T230000Z
DTEND:20260501T010000Z
END:VEVENT
END:VCALENDAR
