BEGIN:VCALENDAR
VERSION:2.0
PRODID:SchoolNow
CALSCALE:GREGORIAN
BEGIN:VEVENT
UID:833650de-19e2-11f1-abc2-0a58a9feac02
DTSTAMP:20260424T124007Z
SUMMARY:MVMS - Softball vs Potter Valley
LOCATION:Potter Valley
URL;VALUE=URI:https://www.kvusd.org/schools/mvms/calendar/8897768/mvms-soft
 ball-vs-potter-valley
DTSTART:20260511T233000Z
DTEND:20260512T013000Z
END:VEVENT
END:VCALENDAR
