BEGIN:VCALENDAR
VERSION:2.0
PRODID:SchoolNow
CALSCALE:GREGORIAN
BEGIN:VEVENT
UID:8336417a-19e2-11f1-8721-0a58a9feac02
DTSTAMP:20260424T124007Z
SUMMARY:MVMS - Softball vs Upper Lake
LOCATION:Home
URL;VALUE=URI:https://www.kvusd.org/schools/mvms/calendar/8897767/mvms-soft
 ball-vs-upper-lake
DTSTART:20260427T233000Z
DTEND:20260428T010000Z
END:VEVENT
END:VCALENDAR
