BEGIN:VCALENDAR
VERSION:2.0
PRODID:SchoolNow
CALSCALE:GREGORIAN
BEGIN:VEVENT
UID:83364076-19e2-11f1-85cc-0a58a9feac02
DTSTAMP:20260424T124007Z
SUMMARY:MVMS - Softball vs Middletown
LOCATION:Middletown
URL;VALUE=URI:https://www.kvusd.org/schools/mvms/calendar/8897766/mvms-soft
 ball-vs-middletown
DTSTART:20260506T233000Z
DTEND:20260507T013000Z
END:VEVENT
END:VCALENDAR
