BEGIN:VCALENDAR
VERSION:2.0
PRODID:SchoolNow
CALSCALE:GREGORIAN
BEGIN:VEVENT
UID:83363c20-19e2-11f1-a53d-0a58a9feac02
DTSTAMP:20260424T124007Z
SUMMARY:MVMS - Softball vs Eagle Peak | Redwood Valley
LOCATION:Home
URL;VALUE=URI:https://www.kvusd.org/schools/mvms/calendar/8897763/mvms-soft
 ball-vs-eagle-peak-redwood-valley
DTSTART:20260309T233000Z
DTEND:20260310T010000Z
END:VEVENT
END:VCALENDAR
