BEGIN:VCALENDAR
VERSION:2.0
PRODID:SchoolNow
CALSCALE:GREGORIAN
BEGIN:VEVENT
UID:833638f6-19e2-11f1-971f-0a58a9feac02
DTSTAMP:20260424T124007Z
SUMMARY:MVMS - Softball vs Terrace
LOCATION:Lakeport
URL;VALUE=URI:https://www.kvusd.org/schools/mvms/calendar/8897760/mvms-soft
 ball-vs-terrace
DTSTART:20260422T233000Z
DTEND:20260423T010000Z
END:VEVENT
END:VCALENDAR
