BEGIN:VCALENDAR
VERSION:2.0
PRODID:SchoolNow
CALSCALE:GREGORIAN
BEGIN:VEVENT
UID:833637b6-19e2-11f1-a5a6-0a58a9feac02
DTSTAMP:20260422T001507Z
SUMMARY:MVMS - Softball vs Middletown
LOCATION:Home
URL;VALUE=URI:https://www.kvusd.org/schools/mvms/calendar/8897759/mvms-soft
 ball-vs-middletown
DTSTART:20260420T233000Z
DTEND:20260421T010000Z
END:VEVENT
END:VCALENDAR
