BEGIN:VCALENDAR
VERSION:2.0
PRODID:SchoolNow
CALSCALE:GREGORIAN
BEGIN:VEVENT
UID:833635b8-19e2-11f1-b888-0a58a9feac02
DTSTAMP:20260421T000533Z
SUMMARY:MVMS - Softball vs Lucerne
LOCATION:Lucerne
URL;VALUE=URI:https://www.kvusd.org/schools/mvms/calendar/8897758/mvms-soft
 ball-vs-lucerne
DTSTART:20260415T233000Z
DTEND:20260416T010000Z
END:VEVENT
END:VCALENDAR
