BEGIN:VCALENDAR
VERSION:2.0
PRODID:SchoolNow
CALSCALE:GREGORIAN
BEGIN:VEVENT
UID:8335dae6-19e2-11f1-b95a-0a58a9feac02
DTSTAMP:20260424T124007Z
SUMMARY:MVMS - Softball vs Lucerne
LOCATION:Home
URL;VALUE=URI:https://www.kvusd.org/schools/mvms/calendar/8897757/mvms-soft
 ball-vs-lucerne
DTSTART:20260504T233000Z
DTEND:20260505T013000Z
END:VEVENT
END:VCALENDAR
