BEGIN:VCALENDAR
VERSION:2.0
PRODID:SchoolNow
CALSCALE:GREGORIAN
BEGIN:VEVENT
UID:ba7f5c04-1328-11f1-a44a-0a58a9feac02
DTSTAMP:20260424T124007Z
SUMMARY:MVMS - Soccer vs. Middletown Middle
LOCATION:Middletown High School\, 20932 Big Canyon Rd\, Middletown\, CA 954
 61\, USA
URL;VALUE=URI:https://www.kvusd.org/schools/mvms/calendar/8873487/mvms-socc
 er-vs-middletown-middle
DTSTART:20260429T233000Z
DTEND:20260430T003000Z
END:VEVENT
END:VCALENDAR
