BEGIN:VCALENDAR
VERSION:2.0
PRODID:SchoolNow
CALSCALE:GREGORIAN
BEGIN:VEVENT
UID:ba7f598e-1328-11f1-9ddd-0a58a9feac02
DTSTAMP:20260424T124007Z
SUMMARY:MVMS - Soccer vs. Pomolita
LOCATION:Pomolita Middle School\, 740 N Spring St\, Ukiah\, CA 95482\, USA
URL;VALUE=URI:https://www.kvusd.org/schools/mvms/calendar/8873486/mvms-socc
 er-vs-pomolita
DTSTART:20260310T233000Z
DTEND:20260311T003000Z
END:VEVENT
END:VCALENDAR
