BEGIN:VCALENDAR
VERSION:2.0
PRODID:SchoolNow
CALSCALE:GREGORIAN
BEGIN:VEVENT
UID:ba7f56dc-1328-11f1-a8f4-0a58a9feac02
DTSTAMP:20260424T124007Z
SUMMARY:MVMS - Soccer vs. Upper Lake
LOCATION:Mountain Vista Middle School\, 5081 Konocti Rd\, Kelseyville\, CA 
 95451\, USA
URL;VALUE=URI:https://www.kvusd.org/schools/mvms/calendar/8873484/mvms-socc
 er-vs-upper-lake
DTSTART:20260330T233000Z
DTEND:20260331T003000Z
END:VEVENT
END:VCALENDAR
