BEGIN:VCALENDAR
VERSION:2.0
PRODID:SchoolNow
CALSCALE:GREGORIAN
BEGIN:VEVENT
UID:ba7f55f6-1328-11f1-9c90-0a58a9feac02
DTSTAMP:20260424T124007Z
SUMMARY:MVMS - Soccer vs. Lakeport
LOCATION:Terrace Middle School\, 250 Lange St\, Lakeport\, CA 95453\, USA
URL;VALUE=URI:https://www.kvusd.org/schools/mvms/calendar/8873483/mvms-socc
 er-vs-lakeport
DTSTART:20260401T233000Z
DTEND:20260402T003000Z
END:VEVENT
END:VCALENDAR
