BEGIN:VCALENDAR
VERSION:2.0
PRODID:SchoolNow
CALSCALE:GREGORIAN
BEGIN:VEVENT
UID:ba7f54de-1328-11f1-9361-0a58a9feac02
DTSTAMP:20260422T001507Z
SUMMARY:MVMS - Soccer vs. Obsidian Middle
LOCATION:Lower Lake High School\, 9430 Lake St\, Lower Lake\, CA 95457\, US
 A
URL;VALUE=URI:https://www.kvusd.org/schools/mvms/calendar/8873482/mvms-socc
 er-vs-obsidian-middle
DTSTART:20260420T233000Z
DTEND:20260421T003000Z
END:VEVENT
END:VCALENDAR
