BEGIN:VCALENDAR
VERSION:2.0
PRODID:SchoolNow
CALSCALE:GREGORIAN
BEGIN:VEVENT
UID:ba7f52fe-1328-11f1-bd5f-0a58a9feac02
DTSTAMP:20260424T124007Z
SUMMARY:MVMS - Soccer vs. Eagle Peak
LOCATION:Mountain Vista Middle School\, 5081 Konocti Rd\, Kelseyville\, CA 
 95451\, USA
URL;VALUE=URI:https://www.kvusd.org/schools/mvms/calendar/8873480/mvms-socc
 er-vs-eagle-peak
DTSTART:20260311T233000Z
DTEND:20260312T003000Z
END:VEVENT
END:VCALENDAR
