BEGIN:VCALENDAR
VERSION:2.0
PRODID:SchoolNow
CALSCALE:GREGORIAN
BEGIN:VEVENT
UID:ba7f51aa-1328-11f1-b6a8-0a58a9feac02
DTSTAMP:20260424T124007Z
SUMMARY:MVMS - Soccer vs. Obsidian Middle School
LOCATION:Kelseyville High School\, 5480 Main St\, Kelseyville\, CA 95451\, 
 USA
URL;VALUE=URI:https://www.kvusd.org/schools/mvms/calendar/8873479/mvms-socc
 er-vs-obsidian-middle-school
DTSTART:20260506T233000Z
DTEND:20260507T003000Z
END:VEVENT
END:VCALENDAR
