BEGIN:VCALENDAR
VERSION:2.0
PRODID:SchoolNow
CALSCALE:GREGORIAN
BEGIN:VEVENT
UID:ba7f50b0-1328-11f1-a41b-0a58a9feac02
DTSTAMP:20260424T124007Z
SUMMARY:MVMS - Soccer vs. Fort Bragg
LOCATION:Fort Bragg Middle School\, 500 N Harold St\, Fort Bragg\, CA 95437
 \, USA
URL;VALUE=URI:https://www.kvusd.org/schools/mvms/calendar/8873478/mvms-socc
 er-vs-fort-bragg
DTSTART:20260318T233000Z
DTEND:20260319T003000Z
END:VEVENT
END:VCALENDAR
