BEGIN:VCALENDAR
VERSION:2.0
PRODID:SchoolNow
CALSCALE:GREGORIAN
BEGIN:VEVENT
UID:ba7f4f66-1328-11f1-ab84-0a58a9feac02
DTSTAMP:20260424T124007Z
SUMMARY:MVMS - Soccer vs. Pomolita
LOCATION:Mountain Vista Middle School\, 5081 Konocti Rd\, Kelseyville\, CA 
 95451\, USA
URL;VALUE=URI:https://www.kvusd.org/schools/mvms/calendar/8873477/mvms-socc
 er-vs-pomolita
DTSTART:20260325T233000Z
DTEND:20260326T003000Z
END:VEVENT
END:VCALENDAR
