BEGIN:VCALENDAR
VERSION:2.0
PRODID:SchoolNow
CALSCALE:GREGORIAN
BEGIN:VEVENT
UID:ba7f4dae-1328-11f1-96ab-0a58a9feac02
DTSTAMP:20260424T124007Z
SUMMARY:MVMS - Soccer vs. Terrace Middle
LOCATION:Mountain Vista Middle School\, 5081 Konocti Rd\, Kelseyville\, CA 
 95451\, USA
URL;VALUE=URI:https://www.kvusd.org/schools/mvms/calendar/8873476/mvms-socc
 er-vs-terrace-middle
DTSTART:20260427T233000Z
DTEND:20260428T003000Z
END:VEVENT
END:VCALENDAR
