BEGIN:VCALENDAR
VERSION:2.0
PRODID:SchoolNow
CALSCALE:GREGORIAN
BEGIN:VEVENT
UID:ba7f4b92-1328-11f1-af3d-0a58a9feac02
DTSTAMP:20260421T000533Z
SUMMARY:MVMS - Soccer vs. Anderson Valley
LOCATION:Anderson Valley
URL;VALUE=URI:https://www.kvusd.org/schools/mvms/calendar/8873475/mvms-socc
 er-vs-anderson-valley
DTSTART:20260415T233000Z
DTEND:20260416T003000Z
END:VEVENT
END:VCALENDAR
