BEGIN:VCALENDAR
VERSION:2.0
PRODID:SchoolNow
CALSCALE:GREGORIAN
BEGIN:VEVENT
UID:ba7f498a-1328-11f1-bdbd-0a58a9feac02
DTSTAMP:20260422T001507Z
SUMMARY:MVMS - Soccer vs. Upper Lake Middle
LOCATION:Upper Lake Junior High School\, 725 Old Lucerne Rd\, Upper Lake\, 
 CA 95485\, USA
URL;VALUE=URI:https://www.kvusd.org/schools/mvms/calendar/8873474/mvms-socc
 er-vs-upper-lake-middle
DTSTART:20260422T233000Z
DTEND:20260423T003000Z
END:VEVENT
END:VCALENDAR
