BEGIN:VCALENDAR
VERSION:2.0
PRODID:SchoolNow
CALSCALE:GREGORIAN
BEGIN:VEVENT
UID:ba7f45fc-1328-11f1-827f-0a58a9feac02
DTSTAMP:20260424T124007Z
SUMMARY:MVMS - Soccer vs. Eagle Peak
LOCATION:Eagle Peak Middle School\, 8601 West Rd\, Redwood Valley\, CA 9547
 0\, USA
URL;VALUE=URI:https://www.kvusd.org/schools/mvms/calendar/8873473/mvms-socc
 er-vs-eagle-peak
DTSTART:20260323T233000Z
DTEND:20260324T003000Z
END:VEVENT
END:VCALENDAR
