BEGIN:VCALENDAR
VERSION:2.0
PRODID:SchoolNow
CALSCALE:GREGORIAN
BEGIN:VEVENT
UID:723e8844-12c3-11f1-b8c1-0afff6d263ed
DTSTAMP:20260424T124007Z
SUMMARY:MVMS - 8th Grade Parent Meeting
LOCATION:MVMS Library
URL;VALUE=URI:https://www.kvusd.org/schools/mvms/calendar/8872389/mvms-8th-
 grade-parent-meeting
DTSTART:20260306T013000Z
DTEND:20260306T023000Z
END:VEVENT
END:VCALENDAR
