BEGIN:VCALENDAR
VERSION:2.0
PRODID:SchoolNow
CALSCALE:GREGORIAN
BEGIN:VEVENT
UID:723e822c-12c3-11f1-af6e-0afff6d263ed
DTSTAMP:20260424T124007Z
SUMMARY:MVMS - Soccer vs. Anderson Valley
LOCATION:Anderson Valley Jr-Sr High\, 18200 Mountain View Rd\, Boonville\, 
 CA 95415\, USA
URL;VALUE=URI:https://www.kvusd.org/schools/mvms/calendar/8872387/mvms-socc
 er-vs-anderson-valley
DTSTART:20260305T003000Z
DTEND:20260305T013000Z
END:VEVENT
END:VCALENDAR
