BEGIN:VCALENDAR
VERSION:2.0
PRODID:SchoolNow
CALSCALE:GREGORIAN
BEGIN:VEVENT
UID:91ae0c6e-07af-11f1-86d3-0a58a9feac02
DTSTAMP:20260424T124007Z
SUMMARY:MVMS -  Co-Ed Wrestling Tryouts
URL;VALUE=URI:https://www.kvusd.org/schools/mvms/calendar/8853619/mvms-co-e
 d-wrestling-tryouts
DTSTART:20260302T233000Z
DTEND:20260303T010000Z
END:VEVENT
END:VCALENDAR
