BEGIN:VCALENDAR
VERSION:2.0
PRODID:SchoolNow
CALSCALE:GREGORIAN
BEGIN:VEVENT
UID:71b4ef0e-061a-11f1-a158-0affcdde175d
DTSTAMP:20260424T124007Z
SUMMARY:MVMS - Student of the Month
URL;VALUE=URI:https://www.kvusd.org/schools/mvms/calendar/8851978/mvms-stud
 ent-of-the-month
DTSTART:20260220T163000Z
DTEND:20260220T174500Z
END:VEVENT
END:VCALENDAR
