BEGIN:VCALENDAR
VERSION:2.0
PRODID:SchoolNow
CALSCALE:GREGORIAN
BEGIN:VEVENT
UID:a1fb9684-0225-11f1-a3a8-0a58a9feac02
DTSTAMP:20260424T124007Z
SUMMARY:MVMS  - School Site Council & ELAC Meetings
LOCATION:Room #6
URL;VALUE=URI:https://www.kvusd.org/schools/mvms/calendar/8849786/mvms-scho
 ol-site-council-elac-meetings
DTSTART:20260225T231500Z
DTEND:20260226T000000Z
END:VEVENT
END:VCALENDAR
