BEGIN:VCALENDAR
VERSION:2.0
PRODID:SchoolNow
CALSCALE:GREGORIAN
BEGIN:VEVENT
UID:a1fa09b8-0225-11f1-90ef-0a58a9feac02
DTSTAMP:20260424T124007Z
SUMMARY:MVMS - Girls A Team Basketball Fort Bragg Triple Threat Tournament
LOCATION:Fort Bragg
URL;VALUE=URI:https://www.kvusd.org/schools/mvms/calendar/8849785/mvms-girl
 s-a-team-basketball-fort-bragg-triple-threat-tournament
DTSTART;VALUE=DATE:20260206
DTEND;VALUE=DATE:20260208
END:VEVENT
END:VCALENDAR
