BEGIN:VCALENDAR
VERSION:2.0
PRODID:SchoolNow
CALSCALE:GREGORIAN
BEGIN:VEVENT
UID:2bfe9a08-01f3-11f1-82fc-0a58a9feac02
DTSTAMP:20260424T124007Z
SUMMARY:MVMS -  Co-Ed Track and Field Tryouts
URL;VALUE=URI:https://www.kvusd.org/schools/mvms/calendar/8849370/mvms-co-e
 d-track-and-field-tryouts
DTSTART:20260303T233000Z
DTEND:20260304T010000Z
END:VEVENT
END:VCALENDAR
