BEGIN:VCALENDAR
VERSION:2.0
PRODID:SchoolNow
CALSCALE:GREGORIAN
BEGIN:VEVENT
UID:2bfe9918-01f3-11f1-8d2a-0a58a9feac02
DTSTAMP:20260424T124007Z
SUMMARY:MVMS -  Co-Ed Track and Field Tryouts
URL;VALUE=URI:https://www.kvusd.org/schools/mvms/calendar/8849369/mvms-co-e
 d-track-and-field-tryouts
DTSTART:20260302T233000Z
DTEND:20260303T010000Z
END:VEVENT
END:VCALENDAR
