BEGIN:VCALENDAR
VERSION:2.0
PRODID:SchoolNow
CALSCALE:GREGORIAN
BEGIN:VEVENT
UID:2bfe93f0-01f3-11f1-ba88-0a58a9feac02
DTSTAMP:20260424T124007Z
SUMMARY:MVMS - Co-Ed Soccer Tryouts
URL;VALUE=URI:https://www.kvusd.org/schools/mvms/calendar/8849363/mvms-co-e
 d-soccer-tryouts
DTSTART:20260223T233000Z
DTEND:20260224T013000Z
END:VEVENT
END:VCALENDAR
