BEGIN:VCALENDAR
VERSION:2.0
PRODID:SchoolNow
CALSCALE:GREGORIAN
BEGIN:VEVENT
UID:2bfe9242-01f3-11f1-8957-0a58a9feac02
DTSTAMP:20260424T124007Z
SUMMARY:MVMS - Boys Basketball vs Middletown
LOCATION:Middletown
URL;VALUE=URI:https://www.kvusd.org/schools/mvms/calendar/8849361/mvms-boys
 -basketball-vs-middletown
DTSTART:20260219T003000Z
DTEND:20260219T033000Z
END:VEVENT
END:VCALENDAR
