BEGIN:VCALENDAR
VERSION:2.0
PRODID:SchoolNow
CALSCALE:GREGORIAN
BEGIN:VEVENT
UID:2bfe9120-01f3-11f1-9333-0a58a9feac02
DTSTAMP:20260424T124007Z
SUMMARY:MVMS - Boys Basketball Championship Tournament
LOCATION:Home
URL;VALUE=URI:https://www.kvusd.org/schools/mvms/calendar/8849360/mvms-boys
 -basketball-championship-tournament
DTSTART;VALUE=DATE:20260226
DTEND;VALUE=DATE:20260301
END:VEVENT
END:VCALENDAR
