BEGIN:VCALENDAR
VERSION:2.0
PRODID:SchoolNow
CALSCALE:GREGORIAN
BEGIN:VEVENT
UID:2bfe8f68-01f3-11f1-971a-0a58a9feac02
DTSTAMP:20260424T124007Z
SUMMARY:MVMS - Boys Basketball vs Terrace
LOCATION:Terrace
URL;VALUE=URI:https://www.kvusd.org/schools/mvms/calendar/8849358/mvms-boys
 -basketball-vs-terrace
DTSTART:20260205T003000Z
DTEND:20260205T033000Z
END:VEVENT
END:VCALENDAR
